BEGIN:VCALENDAR
VERSION:2.0
PRODID:-//wp-events-plugin.com//7.2.3.1//EN
BEGIN:VEVENT
UID:297@deineunendlichkeit.de
DTSTART:20260920T103000Z
DTEND:20260920T123000Z
DTSTAMP:20260310T093737Z
URL:https://deineunendlichkeit.de/events/yin-yoga-special-mit-klang-5/
SUMMARY:YIN YOGA Special mit Klang
DESCRIPTION:YIN Yoga SPECIAL mit Handpan und Klangschalen \n\n--&gt\; Musi
 kalisch begleitet wird die Veranstaltung von Jochen Böttcher \n\nLass de
 n Alltag hinter dir und wähle einen schönen Weg zu deiner inneren Mitte 
 mit YIN Yoga. Dazu kannst du in den einzelnen Positionen den zarten Kläng
 en des Handpan oder anderen wundervollen Klängen lauschen\, dich dem voll
 ständigen Loslassen hingeben. Genieße die Zeit für dich und spüre die 
 tiefe Wirkung dieses sanften Yogastils. Maßvolle Bewegung\, Atmung und Me
 ditation sind dabei die Grundelemente.\n\nIm YIN Yoga werden alle Übungen
  passiv und ohne Kraft ausgeführt und wirken somit auf die tieferen Schic
 hten in unserem Körper -  auf das Bindegewebe (Faszien)\, Sehnen\, Bänd
 er\, Gelenke usw. Die Positionen werden 3 - 5 Minuten gehalten\, dadurch w
 ird im Körper der Energiefluss angeregt und ausbalanciert.  Deine Bewegl
 ichkeit und Flexibilität verbessern sich.\n\nOrt:\n\nLOFT 22 in 35440 Lin
 den\, Bahnhofstr. 22\n\nDas Material wird vor Ort gestellt. Bringe gerne z
 usätzlich einen Bolster und Yogakissen mit.\n\nPreis:  EUR 40\,- pro Per
 son //  Ermäßigt auf Anfrage.
CATEGORIES:YIN Yoga Special mit Klang
LOCATION:LOFT 22  Linden\, Bahnhofstr. 22\, Linden\, Hessen\, 35440\, Deuts
 chland
X-APPLE-STRUCTURED-LOCATION;VALUE=URI;X-ADDRESS=Bahnhofstr. 22\, Linden\, H
 essen\, 35440\, Deutschland;X-APPLE-RADIUS=100;X-TITLE=LOFT 22  Linden:geo
 :0,0
END:VEVENT
END:VCALENDAR